BEGIN:VCALENDAR
VERSION:2.0
PRODID:-//Sheetal Story - ECPv6.15.20//NONSGML v1.0//EN
CALSCALE:GREGORIAN
METHOD:PUBLISH
X-WR-CALNAME:Sheetal Story
X-ORIGINAL-URL:https://sheetalstory.com
X-WR-CALDESC:Events for Sheetal Story
REFRESH-INTERVAL;VALUE=DURATION:PT1H
X-Robots-Tag:noindex
X-PUBLISHED-TTL:PT1H
BEGIN:VTIMEZONE
TZID:UTC
BEGIN:STANDARD
TZOFFSETFROM:+0000
TZOFFSETTO:+0000
TZNAME:UTC
DTSTART:20220101T000000
END:STANDARD
END:VTIMEZONE
BEGIN:VEVENT
DTSTART;TZID=UTC:20230121T100000
DTEND;TZID=UTC:20230121T170000
DTSTAMP:20260419T175013
CREATED:20221214T044025Z
LAST-MODIFIED:20230112T045927Z
UID:3245-1674295200-1674320400@sheetalstory.com
SUMMARY:Manifest Your Best Life Vision Board Workshop
DESCRIPTION:Manifest Your Best 2023!\nJoin a Virtual Vision Board Workshop hosted by a Manifestation Coach! \n\n\nDuring this full day of coaching and Vision Boarding you will: \n\n\n\n\n\nClarity on what you really want – worksheets to help you understand what you are looking for\, and a meditation to help you focus and let go of that which no longer serves you.\n\n\n\n\nGroup Coaching to help you move past your abundance blocks\, shift into alignment with your soul’s desire\, to come into the wealth the Universe has to offer.\n\n\n\n\nSpace and time to map out your ideal outcomes in each area of your life.\n\n\n\n\nConnection with like-minded peers\, and a positive non-judgmental environment to create.\n\n\n\n\nYour very own Vision Board to effortlessly attract your ideal outcomes for the months ahead.\n\n\n\n\nA full day of breathing room and dream-time.\n\n\n\n\n			\n				Learn More
URL:https://sheetalstory.com/event/manifest-your-best-life-vision-board-workshop/
LOCATION:Zoom
CATEGORIES:Special Events
ATTACH;FMTTYPE=image/png:https://sheetalstory.com/wp-content/uploads/2022/12/Vision-Board-Workshop.png
END:VEVENT
END:VCALENDAR