BEGIN:VCALENDAR
VERSION:2.0
PRODID:-//Sheetal Story - ECPv6.15.20//NONSGML v1.0//EN
CALSCALE:GREGORIAN
METHOD:PUBLISH
X-WR-CALNAME:Sheetal Story
X-ORIGINAL-URL:https://sheetalstory.com
X-WR-CALDESC:Events for Sheetal Story
REFRESH-INTERVAL;VALUE=DURATION:PT1H
X-Robots-Tag:noindex
X-PUBLISHED-TTL:PT1H
BEGIN:VTIMEZONE
TZID:UTC
BEGIN:STANDARD
TZOFFSETFROM:+0000
TZOFFSETTO:+0000
TZNAME:UTC
DTSTART:20240101T000000
END:STANDARD
END:VTIMEZONE
BEGIN:VEVENT
DTSTART;TZID=UTC:20250310T000000
DTEND;TZID=UTC:20250331T233000
DTSTAMP:20260424T070710
CREATED:20250211T222853Z
LAST-MODIFIED:20250211T222937Z
UID:4430-1741564800-1743463800@sheetalstory.com
SUMMARY:M.I.A. Academy March 2025 Intake
DESCRIPTION:Leave the noisy\, stressful\, overwhelming fearful world behind and drop into the expansiveness of your heart and soul.\n\n\nHow amazing would it be to have a constant reminder and influence of love\, joy\, and ease bringing you back into heart each week? When we let the outside world pull us away from the expansive abundant truth of who we are\, we get caught up in fear\, overwhelm\, powerlessness\, and hopelessness! And I think we are all done with that ratchet energy\, am I right?! \nManifestation Intuition and Astrology Academy will help you flow with the energy of the Universe and learn how to read the signs to become a magical manifestation goddess that you were born to be. This program will bring you back to the truth of your soul – that you were made to enjoy life and experience this life from the seat of the soul. And not from the seat of the ego. \nM.I.A. Academy is an earth school designed to assist truth seekers in learning how to use Manifestation\, Intuition\, and Astrology to navigate this life time for more alignment with their soul\, ease of flow with life’s obstacles\, healing from the past\, and more joyful life experiences. \n\n\n			\n				Learn More
URL:https://sheetalstory.com/event/m-i-a-academy-mar-2025/
LOCATION:Zoom
CATEGORIES:Programs
ATTACH;FMTTYPE=image/png:https://sheetalstory.com/wp-content/uploads/2025/02/MIA-Academy.png
END:VEVENT
BEGIN:VEVENT
DTSTART;TZID=UTC:20250402T120000
DTEND;TZID=UTC:20250625T130000
DTSTAMP:20260424T070710
CREATED:20250211T223906Z
LAST-MODIFIED:20250211T223910Z
UID:4437-1743595200-1750856400@sheetalstory.com
SUMMARY:Discovering Your Soul Led Passion and Purpose 3 Month Group Coaching Program
DESCRIPTION:I believe that your purpose is woven through the fabric of your life.\n\n\nYour soul always knows the way\, gently guiding you toward healing and alignment. \nWithout integrating and bringing love to the parts of you shaped by childhood wounds\, it’s challenging to move beyond the safety mechanisms that have quietly kept you from stepping fully into your purpose. These patterns\, born from a need to protect you\, can feel like roadblocks now\, but they are also the keys to your soul’s wisdom. \nI see you. You’ve been working so hard to discover your life purpose\, delving into healing practices\, and navigating this journey on your own. You’ve done an incredible job. Perhaps you’ve sought guidance from healers\, psychics\, or therapists\, only to find yourself revisiting the same story\, the same patterns. And now\, you’re tired—tired of telling the story\, tired of trying to “rise above” it. \nHere’s the truth: You don’t need to force your way through or try to “willpower” yourself into healing. The path forward isn’t about fighting against yourself; it’s about gently reconnecting with the parts of you that need love and understanding. \nNo amount of spiritual clearings\, DNA activations\, or astrology forecasts can do this work for you. Only you can walk this path—but you don’t have to walk it alone. I’m here to guide you in a safe and confidential space\, surrounded by a community of soul seekers like you. Together\, we’ll turn the serious work of healing into an opportunity for joy\, discovery\, and transformation. \nBecause when we bring love\, safety\, and even lightness to this soul work\, it becomes a powerful and beautiful part of our journey. \nAre you ready to step into the life your soul has been calling you toward? \n\n			\n				Learn More
URL:https://sheetalstory.com/event/discovering-your-soul-led-passion-and-purpose-program-april-2025/
LOCATION:Zoom
CATEGORIES:Programs
ATTACH;FMTTYPE=image/png:https://sheetalstory.com/wp-content/uploads/2022/01/Events-Workshop-Featured-Images.png
END:VEVENT
BEGIN:VEVENT
DTSTART;TZID=UTC:20250501T093000
DTEND;TZID=UTC:20250529T233000
DTSTAMP:20260424T070710
CREATED:20250211T221424Z
LAST-MODIFIED:20250211T222402Z
UID:4419-1746091800-1748561400@sheetalstory.com
SUMMARY:Intuition 101
DESCRIPTION:This 4 week online course will help you get more connected to your intuition. \nIntuition is a muscle – the more you flex it\, the stronger it gets. The problem is many people don’t trust it. How do you cultivate trust in your own knowing? Practice and seeing irrefutable evidence that you are supported more than you realize. \nWe live in a world of energy. And believe it or not\, you are an energetic being living this human existence. You receive information on an energetic level first\, but you may not be aware of it. Many sensitives and empathic people may feel overwhelmed by this. The key is we have control over what we experience! \nCome join a group of like-minded\, positive individuals in developing your intuition\, in a safe\, safe  encouraging\, non-judgmental environment! I promise you will learn a lot about yourself and your own inherent super powers! \n\n			\n				Learn More
URL:https://sheetalstory.com/event/intuition-101-may-2025/
LOCATION:Zoom
CATEGORIES:Programs
ATTACH;FMTTYPE=image/png:https://sheetalstory.com/wp-content/uploads/2025/02/Intuition-101.png
END:VEVENT
BEGIN:VEVENT
DTSTART;TZID=UTC:20250610T000000
DTEND;TZID=UTC:20250627T233000
DTSTAMP:20260424T070710
CREATED:20250607T020143Z
LAST-MODIFIED:20250607T020147Z
UID:4565-1749513600-1751067000@sheetalstory.com
SUMMARY:M.I.A. Academy June 2025 Intake
DESCRIPTION:Leave the noisy\, stressful\, overwhelming fearful world behind and drop into the expansiveness of your heart and soul.\n\n\nHow amazing would it be to have a constant reminder and influence of love\, joy\, and ease bringing you back into heart each week? When we let the outside world pull us away from the expansive abundant truth of who we are\, we get caught up in fear\, overwhelm\, powerlessness\, and hopelessness! And I think we are all done with that ratchet energy\, am I right?! \nManifestation Intuition and Astrology Academy will help you flow with the energy of the Universe and learn how to read the signs to become a magical manifestation goddess that you were born to be. This program will bring you back to the truth of your soul – that you were made to enjoy life and experience this life from the seat of the soul. And not from the seat of the ego. \nM.I.A. Academy is an earth school designed to assist truth seekers in learning how to use Manifestation\, Intuition\, and Astrology to navigate this life time for more alignment with their soul\, ease of flow with life’s obstacles\, healing from the past\, and more joyful life experiences. \n\n\n			\n				Learn More
URL:https://sheetalstory.com/event/m-i-a-academy-june-2025/
LOCATION:Zoom
CATEGORIES:Programs
ATTACH;FMTTYPE=image/png:https://sheetalstory.com/wp-content/uploads/2025/02/MIA-Academy.png
END:VEVENT
BEGIN:VEVENT
DTSTART;TZID=UTC:20250908T000000
DTEND;TZID=UTC:20250926T233000
DTSTAMP:20260424T070710
CREATED:20250905T205837Z
LAST-MODIFIED:20250905T205841Z
UID:4746-1757289600-1758929400@sheetalstory.com
SUMMARY:M.I.A. Academy September 2025 Intake
DESCRIPTION:Leave the noisy\, stressful\, overwhelming fearful world behind and drop into the expansiveness of your heart and soul.\n\n\nHow amazing would it be to have a constant reminder and influence of love\, joy\, and ease bringing you back into heart each week? When we let the outside world pull us away from the expansive abundant truth of who we are\, we get caught up in fear\, overwhelm\, powerlessness\, and hopelessness! And I think we are all done with that ratchet energy\, am I right?! \nManifestation Intuition and Astrology Academy will help you flow with the energy of the Universe and learn how to read the signs to become a magical manifestation goddess that you were born to be. This program will bring you back to the truth of your soul – that you were made to enjoy life and experience this life from the seat of the soul. And not from the seat of the ego. \nM.I.A. Academy is an earth school designed to assist truth seekers in learning how to use Manifestation\, Intuition\, and Astrology to navigate this life time for more alignment with their soul\, ease of flow with life’s obstacles\, healing from the past\, and more joyful life experiences. \n\n\n			\n				Learn More
URL:https://sheetalstory.com/event/m-i-a-academy-september-2025/
LOCATION:Zoom
CATEGORIES:Programs
ATTACH;FMTTYPE=image/png:https://sheetalstory.com/wp-content/uploads/2025/02/MIA-Academy.png
END:VEVENT
BEGIN:VEVENT
DTSTART;TZID=UTC:20250924T120000
DTEND;TZID=UTC:20251022T130000
DTSTAMP:20260424T070710
CREATED:20250813T155054Z
LAST-MODIFIED:20250813T155208Z
UID:4720-1758715200-1761138000@sheetalstory.com
SUMMARY:Social Media by Design 5 Week Program
DESCRIPTION:A 5-week transformational program for heart-led women entrepreneurs who are done with the burnout slogging their way through social media and who are now ready to show up online in a way that feels authentic\, joyful\, and magnetic. \n\n\n\n\n\n\n\n\nThis is for you if:\n\n\n\n\nYou’re a soul-driven entrepreneur with a big mission—but your message isn’t landing.\nYou’re tired of feeling “icky” when you think about creating content.\nYou want to attract aligned clients who value you and your work and really need the wisdom you have to share.\nYou’re ready to stop guessing and start creating with clarity\, ease\, and flow\n\n\n\n\n\n\n\n\n			\n				Learn More
URL:https://sheetalstory.com/event/social-media-by-design-5-week-program/
LOCATION:Zoom
CATEGORIES:Programs
ATTACH;FMTTYPE=image/jpeg:https://sheetalstory.com/wp-content/uploads/2025/08/Social-Media-by-Design.jpg
END:VEVENT
BEGIN:VEVENT
DTSTART;TZID=UTC:20251208T000000
DTEND;TZID=UTC:20260102T233000
DTSTAMP:20260424T070710
CREATED:20251205T170350Z
LAST-MODIFIED:20251205T170354Z
UID:5123-1765152000-1767396600@sheetalstory.com
SUMMARY:M.I.A. Academy January 2025 Intake
DESCRIPTION:Leave the noisy\, stressful\, overwhelming fearful world behind and drop into the expansiveness of your heart and soul.\n\n\nHow amazing would it be to have a constant reminder and influence of love\, joy\, and ease bringing you back into heart each week? When we let the outside world pull us away from the expansive abundant truth of who we are\, we get caught up in fear\, overwhelm\, powerlessness\, and hopelessness! And I think we are all done with that ratchet energy\, am I right?! \nManifestation Intuition and Astrology Academy will help you flow with the energy of the Universe and learn how to read the signs to become a magical manifestation goddess that you were born to be. This program will bring you back to the truth of your soul – that you were made to enjoy life and experience this life from the seat of the soul. And not from the seat of the ego. \nM.I.A. Academy is an earth school designed to assist truth seekers in learning how to use Manifestation\, Intuition\, and Astrology to navigate this life time for more alignment with their soul\, ease of flow with life’s obstacles\, healing from the past\, and more joyful life experiences. \n\n\n			\n				Learn More
URL:https://sheetalstory.com/event/m-i-a-academy-january-2026/
LOCATION:Zoom
CATEGORIES:Programs
ATTACH;FMTTYPE=image/jpeg:https://sheetalstory.com/wp-content/uploads/2025/12/MIA-Academy.jpg
END:VEVENT
BEGIN:VEVENT
DTSTART;TZID=UTC:20260309T000000
DTEND;TZID=UTC:20260403T233000
DTSTAMP:20260424T070710
CREATED:20260303T174556Z
LAST-MODIFIED:20260309T134103Z
UID:5448-1773014400-1775259000@sheetalstory.com
SUMMARY:M.I.A. Academy April Intake
DESCRIPTION:Leave the noisy\, stressful\, overwhelming fearful world behind and drop into the expansiveness of your heart and soul.\n\n\nHow amazing would it be to have a constant reminder and influence of love\, joy\, and ease bringing you back into heart each week? When we let the outside world pull us away from the expansive abundant truth of who we are\, we get caught up in fear\, overwhelm\, powerlessness\, and hopelessness! And I think we are all done with that ratchet energy\, am I right?! \nManifestation Intuition and Astrology Academy will help you flow with the energy of the Universe and learn how to read the signs to become a magical manifestation goddess that you were born to be. This program will bring you back to the truth of your soul – that you were made to enjoy life and experience this life from the seat of the soul. And not from the seat of the ego. \nM.I.A. Academy is an earth school designed to assist truth seekers in learning how to use Manifestation\, Intuition\, and Astrology to navigate this life time for more alignment with their soul\, ease of flow with life’s obstacles\, healing from the past\, and more joyful life experiences. \n\n\n			\n				Learn More
URL:https://sheetalstory.com/event/m-i-a-academy-april-2026/
LOCATION:Zoom
CATEGORIES:Programs
ATTACH;FMTTYPE=image/jpeg:https://sheetalstory.com/wp-content/uploads/2026/03/MIA-Academy-April-2026.jpg
END:VEVENT
END:VCALENDAR