BEGIN:VCALENDAR
VERSION:2.0
PRODID:-//Sheetal Story - ECPv6.15.20//NONSGML v1.0//EN
CALSCALE:GREGORIAN
METHOD:PUBLISH
X-ORIGINAL-URL:https://sheetalstory.com
X-WR-CALDESC:Events for Sheetal Story
REFRESH-INTERVAL;VALUE=DURATION:PT1H
X-Robots-Tag:noindex
X-PUBLISHED-TTL:PT1H
BEGIN:VTIMEZONE
TZID:UTC
BEGIN:STANDARD
TZOFFSETFROM:+0000
TZOFFSETTO:+0000
TZNAME:UTC
DTSTART:20210101T000000
END:STANDARD
END:VTIMEZONE
BEGIN:VEVENT
DTSTART;TZID=UTC:20221024T183000
DTEND;TZID=UTC:20221024T193000
DTSTAMP:20260420T025539
CREATED:20220924T060049Z
LAST-MODIFIED:20220224T034332Z
UID:2701-1666636200-1666639800@sheetalstory.com
SUMMARY:New Moon Eclipse in Scorpio Manifestation Workshop
DESCRIPTION:🌙 New Moon Manifestation Workshop 🌙 \nWhat we will cover: \n🌙 Astrology for the collective🌙 How it affects each sign (including your own)🌙 What to intention/release by sign🌙 A Meditation designed to help you encapsulate the energy of this Moon time🌙 A Law of Attraction Process to help you manifest using the laws of the Universe🌙 A Law of Attraction handout to lock in the manifestation \nMonday\, October 24\, 20226:30pm-7:30pm$27+gstLive on Zoom* \n*Replays will be sent out to all those who register. \n			\n				Sign Up
URL:https://sheetalstory.com/event/new-moon-eclipse-in-scorpio-manifestation-workshop/
LOCATION:Zoom
CATEGORIES:New Moon Manifestation Workshops
ATTACH;FMTTYPE=image/png:https://sheetalstory.com/wp-content/uploads/2021/12/Manifestation-Workshops-3.png
END:VEVENT
END:VCALENDAR