BEGIN:VCALENDAR
VERSION:2.0
PRODID:-//Sheetal Story - ECPv6.15.20//NONSGML v1.0//EN
CALSCALE:GREGORIAN
METHOD:PUBLISH
X-ORIGINAL-URL:https://sheetalstory.com
X-WR-CALDESC:Events for Sheetal Story
REFRESH-INTERVAL;VALUE=DURATION:PT1H
X-Robots-Tag:noindex
X-PUBLISHED-TTL:PT1H
BEGIN:VTIMEZONE
TZID:UTC
BEGIN:STANDARD
TZOFFSETFROM:+0000
TZOFFSETTO:+0000
TZNAME:UTC
DTSTART:20210101T000000
END:STANDARD
END:VTIMEZONE
BEGIN:VEVENT
DTSTART;TZID=UTC:20220321T180000
DTEND;TZID=UTC:20220321T193000
DTSTAMP:20260419T112214
CREATED:20220309T070140Z
LAST-MODIFIED:20220309T070225Z
UID:2776-1647885600-1647891000@sheetalstory.com
SUMMARY:Spring Equinox Energy Reading & Clearing
DESCRIPTION:Join us for a 90-minute Ceremony hosted by Spiritual Sage Elise Brathwaite and Psychic Medium + Astrologer Sheetal Story to discover the significance of the Spring Equinox and energy of the full moon in Virgo. \nFrom an Astrological view\, the Spring Equinox is equivalent to a New Years celebration! This is a start of a whole new cycle of rebirth and renewal! This is exactly what we need – a giant reset to set intentions for what the next 12 months will bring. \nThe Spring Equinox begins when the Sun moves into Aries on March 20th at 9:33 am MST. This heralds the start of Spring\, bringing the fire back into our hearts and minds. Please join us to clear away the cobwebs of the last 12 months and intention for brilliant beginnings! The butterfly is ready to emerge from the chrysalis – let’s fly! \nSheetal will be sharing what the Astrology of this time means for the collective\, and for each sign. Come to find out more about how to use this energy for the best possible outcome and have Elise literally clear away the chains that have been holding you back from claiming your power. \nGet ready for a magical evening of SRT and Astrology! \n			\n				Sign Up
URL:https://sheetalstory.com/event/spring-equinox-energy-reading-clearing/
LOCATION:Zoom
ATTACH;FMTTYPE=image/jpeg:https://sheetalstory.com/wp-content/uploads/2022/03/Spring-Equinox.jpg
END:VEVENT
END:VCALENDAR